BEGIN:VCALENDAR
VERSION:2.0
PRODID:-//Los Angeles Sheriff&#039;s Athletic Association - ECPv6.15.20//NONSGML v1.0//EN
CALSCALE:GREGORIAN
METHOD:PUBLISH
X-ORIGINAL-URL:https://lasaa.org
X-WR-CALDESC:Events for Los Angeles Sheriff&#039;s Athletic Association
REFRESH-INTERVAL;VALUE=DURATION:PT1H
X-Robots-Tag:noindex
X-PUBLISHED-TTL:PT1H
BEGIN:VTIMEZONE
TZID:America/Los_Angeles
BEGIN:DAYLIGHT
TZOFFSETFROM:-0800
TZOFFSETTO:-0700
TZNAME:PDT
DTSTART:20250309T100000
END:DAYLIGHT
BEGIN:STANDARD
TZOFFSETFROM:-0700
TZOFFSETTO:-0800
TZNAME:PST
DTSTART:20251102T090000
END:STANDARD
BEGIN:DAYLIGHT
TZOFFSETFROM:-0800
TZOFFSETTO:-0700
TZNAME:PDT
DTSTART:20260308T100000
END:DAYLIGHT
BEGIN:STANDARD
TZOFFSETFROM:-0700
TZOFFSETTO:-0800
TZNAME:PST
DTSTART:20261101T090000
END:STANDARD
BEGIN:DAYLIGHT
TZOFFSETFROM:-0800
TZOFFSETTO:-0700
TZNAME:PDT
DTSTART:20270314T100000
END:DAYLIGHT
BEGIN:STANDARD
TZOFFSETFROM:-0700
TZOFFSETTO:-0800
TZNAME:PST
DTSTART:20271107T090000
END:STANDARD
END:VTIMEZONE
BEGIN:VEVENT
DTSTART;TZID=America/Los_Angeles:20260531T140000
DTEND;TZID=America/Los_Angeles:20260531T180000
DTSTAMP:20260424T064337
CREATED:20260405T115934Z
LAST-MODIFIED:20260419T003439Z
UID:10000082-1780236000-1780250400@lasaa.org
SUMMARY:Pickleball May 31\, 2026
DESCRIPTION:Pickletball Flyer 2026
URL:https://lasaa.org/event/pickleball-2/
LOCATION:ANAHEIM TENNIS AND PICKLEBALL CENTER\, 975 South College Boulevard\, Anaheim\, CA\, 92806\, United States
CATEGORIES:Sport
ATTACH;FMTTYPE=image/jpeg:https://lasaa.org/wp-content/uploads/2025/09/All-experience-levels-3.jpg
ORGANIZER;CN="Dave Motts":MAILTO:DAVE@LASAA.ORG
END:VEVENT
END:VCALENDAR